BEGIN:VCALENDAR
VERSION:2.0
PRODID:icalendar-ruby
CALSCALE:GREGORIAN
METHOD:PUBLISH
BEGIN:VEVENT
DTSTAMP:20260423T232324Z
UID:196-93038@stbarnabaschurch.ca
DTSTART:20260503T230000Z
DTEND:20260504T003000Z
CLASS:PUBLIC
CREATED:20260423T093545
DESCRIPTION:Diocesan-wide confirmations will take place on Sunday\, May 3\,
  2026 at 4 PM at Christ Church Cathedral in Victoria. There will be a rece
 ption afterwards. All are welcome to attend. 
LAST-MODIFIED:20260423T093545
LOCATION:Christ Church Cathedral 
SUMMARY:Diocesan-wide confirmations 
URL;VALUE=URI:https://stbarnabaschurch.ca/events/diocesan-wide-confirmation
 s/2026-05-03
END:VEVENT
END:VCALENDAR
