BEGIN:VCALENDAR
VERSION:2.0
PRODID:icalendar-ruby
CALSCALE:GREGORIAN
METHOD:PUBLISH
BEGIN:VEVENT
DTSTAMP:20260423T232624Z
UID:195-93037@stbarnabaschurch.ca
DTSTART:20260502T014500Z
DTEND:20260502T024500Z
CLASS:PUBLIC
CREATED:20260423T093443
DESCRIPTION:Christian Thinking about Ethics and Artificial Intelligence On 
 Friday\, May 1\, at 6:45 p.m.\, St Barnabas Church will be hosting an info
 rmal screening and discussion of the first of Regent College’s “Laing 
 Lectures 2026” in the Church. This lecture was delivered on March 23\, 2
 026\, by Notre Dame University philosopher Dr. Megan Sullivan. This screen
 ing will include the response by Dr. Craig Gay. There will be another even
 t on May 22. \n\nMore details about the lecture series: https://www.regen
 t-college.edu/resources/laing-lectures/ \n 
LAST-MODIFIED:20260423T093443
LOCATION:St Barnabas Church
SUMMARY:Christian Thinking about Ethics and AI
URL;VALUE=URI:https://stbarnabaschurch.ca/events/christian-thinking-about-e
 thics-and-ai/2026-05-01
END:VEVENT
END:VCALENDAR
